BEGIN:VCALENDAR
VERSION:2.0
PRODID:-//NYPA Collector - ECPv6.15.19//NONSGML v1.0//EN
CALSCALE:GREGORIAN
METHOD:PUBLISH
X-ORIGINAL-URL:https://nypa-collector.com
X-WR-CALDESC:Events for NYPA Collector
REFRESH-INTERVAL;VALUE=DURATION:PT1H
X-Robots-Tag:noindex
X-PUBLISHED-TTL:PT1H
BEGIN:VTIMEZONE
TZID:America/New_York
BEGIN:DAYLIGHT
TZOFFSETFROM:-0500
TZOFFSETTO:-0400
TZNAME:EDT
DTSTART:20250309T070000
END:DAYLIGHT
BEGIN:STANDARD
TZOFFSETFROM:-0400
TZOFFSETTO:-0500
TZNAME:EST
DTSTART:20251102T060000
END:STANDARD
BEGIN:DAYLIGHT
TZOFFSETFROM:-0500
TZOFFSETTO:-0400
TZNAME:EDT
DTSTART:20260308T070000
END:DAYLIGHT
BEGIN:STANDARD
TZOFFSETFROM:-0400
TZOFFSETTO:-0500
TZNAME:EST
DTSTART:20261101T060000
END:STANDARD
BEGIN:DAYLIGHT
TZOFFSETFROM:-0500
TZOFFSETTO:-0400
TZNAME:EDT
DTSTART:20270314T070000
END:DAYLIGHT
BEGIN:STANDARD
TZOFFSETFROM:-0400
TZOFFSETTO:-0500
TZNAME:EST
DTSTART:20271107T060000
END:STANDARD
END:VTIMEZONE
BEGIN:VEVENT
DTSTART;TZID=America/New_York:20260424T140000
DTEND;TZID=America/New_York:20260424T180000
DTSTAMP:20260421T083411
CREATED:20260329T102540Z
LAST-MODIFIED:20260419T104037Z
UID:176683-1777039200-1777053600@nypa-collector.com
SUMMARY:Preview: Kevin Dix Estate Auction
DESCRIPTION:Hosted by Iroquois Auctions \nExceptional Estate: 300+ Guns\, 7 Tons of Ammo\, 700 Lots of Sportsman First time offered Estate Items \nBid in person or visit www.liveauctioneers.com for online bidding and for 1000s of photos and copy
URL:https://nypa-collector.com/single-post-name/preview-kevin-dix-estate-auction/
LOCATION:Pathfinder Fish and Game Club\, 116 Crescent Rd\, Fulton\, NY\, United States
END:VEVENT
BEGIN:VEVENT
DTSTART;TZID=America/New_York:20260425T000000
DTEND;TZID=America/New_York:20260426T235959
DTSTAMP:20260421T083411
CREATED:20260125T102539Z
LAST-MODIFIED:20260419T104037Z
UID:176428-1777075200-1777247999@nypa-collector.com
SUMMARY:Antique World Flea Market Indoor/Outdoor
DESCRIPTION:Open Year Round! 8 a.m. to 4 p.m.\nwww.AntiqueWorldMarket.com
URL:https://nypa-collector.com/single-post-name/antique-world-flea-market-indoor-outdoor-161/
LOCATION:Antique World & Flea Market\, 11111 Main St\, Clarence\, NY\, United States
END:VEVENT
BEGIN:VEVENT
DTSTART;TZID=America/New_York:20260425T080000
DTEND;TZID=America/New_York:20260425T160000
DTSTAMP:20260421T083411
CREATED:20260329T102540Z
LAST-MODIFIED:20260419T104037Z
UID:176685-1777104000-1777132800@nypa-collector.com
SUMMARY:Stormville Antique Show & Flea Market
DESCRIPTION:www.stormvilleairportfleamarkets.com
URL:https://nypa-collector.com/single-post-name/stormville-antique-show-flea-market-12/
LOCATION:Stormville Airport Antique Show and Flea Market\, Stormville\, NY\, United States
END:VEVENT
BEGIN:VEVENT
DTSTART;TZID=America/New_York:20260425T090000
DTEND;TZID=America/New_York:20260425T170000
DTSTAMP:20260421T083411
CREATED:20260125T102539Z
LAST-MODIFIED:20260419T104037Z
UID:176427-1777107600-1777136400@nypa-collector.com
SUMMARY:Gun\, Knife & Ammo Show
DESCRIPTION:Saturday 9 a.m. to 5 p.m.\, Sunday 9 a.m. to 3 p.m.
URL:https://nypa-collector.com/single-post-name/gun-knife-ammo-show-12/
LOCATION:5820 South Park Ave\, Hamburg\, NY\, United States
END:VEVENT
BEGIN:VEVENT
DTSTART;TZID=America/New_York:20260425T090000
DTEND;TZID=America/New_York:20260425T170000
DTSTAMP:20260421T083411
CREATED:20260308T102543Z
LAST-MODIFIED:20260419T104037Z
UID:176576-1777107600-1777136400@nypa-collector.com
SUMMARY:Spring Antique Advertising\, Photography\, Nook & Paper Show
DESCRIPTION:
URL:https://nypa-collector.com/single-post-name/spring-antique-advertising-photography-nook-paper-show/
LOCATION:Chew Street\, 2 Chew St\, West Haven\, CT\, United States
END:VEVENT
BEGIN:VEVENT
DTSTART;TZID=America/New_York:20260425T100000
DTEND;TZID=America/New_York:20260425T170000
DTSTAMP:20260421T083411
CREATED:20260308T102543Z
LAST-MODIFIED:20260419T104037Z
UID:176574-1777111200-1777136400@nypa-collector.com
SUMMARY:Binghamton Shriners Antique Show
DESCRIPTION:www.binghamtonshrinersantiqueshow.com
URL:https://nypa-collector.com/single-post-name/binghamton-shriners-antique-show-3/
LOCATION:SUNY Broome Ice Center\, 399 Front St\, Binghamton\, NY\, United States
END:VEVENT
BEGIN:VEVENT
DTSTART;TZID=America/New_York:20260425T100000
DTEND;TZID=America/New_York:20260425T170000
DTSTAMP:20260421T083411
CREATED:20260329T102540Z
LAST-MODIFIED:20260419T104037Z
UID:176684-1777111200-1777136400@nypa-collector.com
SUMMARY:Kevin Dix Estate Auction
DESCRIPTION:Preview 8:00-10:00 a.m.  \nHosted by Iroquois Auctions \nExceptional Estate: 300+ Guns\, 7 Tons of Ammo\, 700 Lots of Sportsman First time offered Estate Items \nBid in person or visit www.liveauctioneers.com for online bidding and for 1000s of photos and copy
URL:https://nypa-collector.com/single-post-name/kevin-dix-estate-auction/
LOCATION:Pathfinder Fish and Game Club\, 116 Crescent Rd\, Fulton\, NY\, United States
END:VEVENT
BEGIN:VEVENT
DTSTART;TZID=America/New_York:20260426T080000
DTEND;TZID=America/New_York:20260426T160000
DTSTAMP:20260421T083411
CREATED:20260201T102555Z
LAST-MODIFIED:20260419T104038Z
UID:176447-1777190400-1777219200@nypa-collector.com
SUMMARY:Sunday Antique Market
DESCRIPTION:www.aberfoyleantiquemarket.com
URL:https://nypa-collector.com/single-post-name/sunday-antique-market/
LOCATION:Aberfoyle Antique Market\, 57 Brock Rd S\, Puslinch\, ON N0B 2J0\, Canada
END:VEVENT
BEGIN:VEVENT
DTSTART;TZID=America/New_York:20260426T080000
DTEND;TZID=America/New_York:20260426T160000
DTSTAMP:20260421T083411
CREATED:20260329T102540Z
LAST-MODIFIED:20260419T104038Z
UID:176686-1777190400-1777219200@nypa-collector.com
SUMMARY:Stormville Antique Show & Flea Market
DESCRIPTION:www.stormvilleairportfleamarkets.com
URL:https://nypa-collector.com/single-post-name/stormville-antique-show-flea-market-13/
LOCATION:Stormville Airport Antique Show and Flea Market\, Stormville\, NY\, United States
END:VEVENT
BEGIN:VEVENT
DTSTART;TZID=America/New_York:20260426T090000
DTEND;TZID=America/New_York:20260426T150000
DTSTAMP:20260421T083411
CREATED:20260201T102555Z
LAST-MODIFIED:20260419T104037Z
UID:176446-1777194000-1777215600@nypa-collector.com
SUMMARY:Gun\, Knife & Ammo Show
DESCRIPTION:Saturday 9 a.m. to 5 p.m.\, Sunday 9 a.m. to 3 p.m.
URL:https://nypa-collector.com/single-post-name/gun-knife-ammo-show-13/
LOCATION:5820 South Park Ave\, Hamburg\, NY\, United States
END:VEVENT
BEGIN:VEVENT
DTSTART;TZID=America/New_York:20260426T090000
DTEND;TZID=America/New_York:20260426T150000
DTSTAMP:20260421T083411
CREATED:20260308T102543Z
LAST-MODIFIED:20260419T104037Z
UID:176578-1777194000-1777215600@nypa-collector.com
SUMMARY:Spring Antique Advertising\, Photography\, Nook & Paper Show
DESCRIPTION:
URL:https://nypa-collector.com/single-post-name/spring-antique-advertising-photography-nook-paper-show-2/
LOCATION:Chew Street\, 2 Chew St\, West Haven\, CT\, United States
END:VEVENT
BEGIN:VEVENT
DTSTART;TZID=America/New_York:20260426T100000
DTEND;TZID=America/New_York:20260426T160000
DTSTAMP:20260421T083411
CREATED:20260308T102543Z
LAST-MODIFIED:20260419T104038Z
UID:176577-1777197600-1777219200@nypa-collector.com
SUMMARY:Binghamton Shriners Antique Show
DESCRIPTION:www.binghamtonshrinersantiqueshow.com
URL:https://nypa-collector.com/single-post-name/binghamton-shriners-antique-show-4/
LOCATION:SUNY Broome Ice Center\, 399 Front St\, Binghamton\, NY\, United States
END:VEVENT
BEGIN:VEVENT
DTSTART;TZID=America/New_York:20260426T100000
DTEND;TZID=America/New_York:20260426T170000
DTSTAMP:20260421T083411
CREATED:20260329T102540Z
LAST-MODIFIED:20260419T104038Z
UID:176687-1777197600-1777222800@nypa-collector.com
SUMMARY:Kevin Dix Estate Auction
DESCRIPTION:Preview 8:00-10:00 a.m.  \nHosted by Iroquois Auctions \nExceptional Estate: 300+ Guns\, 7 Tons of Ammo\, 700 Lots of Sportsman First time offered Estate Items \nBid in person or visit www.liveauctioneers.com for online bidding and for 1000s of photos and copy
URL:https://nypa-collector.com/single-post-name/kevin-dix-estate-auction-2/
LOCATION:Pathfinder Fish and Game Club\, 116 Crescent Rd\, Fulton\, NY\, United States
END:VEVENT
BEGIN:VEVENT
DTSTART;TZID=America/New_York:20260501T173000
DTEND;TZID=America/New_York:20260501T203000
DTSTAMP:20260421T083411
CREATED:20260201T102555Z
LAST-MODIFIED:20260419T104038Z
UID:176448-1777656600-1777667400@nypa-collector.com
SUMMARY:Antiques & Artisans Show Exclusive Preview Party
DESCRIPTION:www.gcv.org
URL:https://nypa-collector.com/single-post-name/antiques-artisans-show-exclusive-preview-party/
LOCATION:Genesee Country Village & Museum\, 1410 Flint Hill Rd\, Le Roy\, NY\, United States
END:VEVENT
BEGIN:VEVENT
DTSTART;TZID=America/New_York:20260502T000000
DTEND;TZID=America/New_York:20260503T235959
DTSTAMP:20260421T083411
CREATED:20260201T102555Z
LAST-MODIFIED:20260419T104038Z
UID:176450-1777680000-1777852799@nypa-collector.com
SUMMARY:Antique World Flea Market Indoor/Outdoor
DESCRIPTION:Open Year Round! 8 a.m. to 4 p.m.\nwww.AntiqueWorldMarket.com
URL:https://nypa-collector.com/single-post-name/antique-world-flea-market-indoor-outdoor-162/
LOCATION:Antique World & Flea Market\, 11111 Main St\, Clarence\, NY\, United States
END:VEVENT
BEGIN:VEVENT
DTSTART;TZID=America/New_York:20260502T080000
DTEND;TZID=America/New_York:20260502T170000
DTSTAMP:20260421T083411
CREATED:20260329T102540Z
LAST-MODIFIED:20260419T104038Z
UID:176688-1777708800-1777741200@nypa-collector.com
SUMMARY:Antique Fair and Flea Market
DESCRIPTION:www.fairgroundshows.com
URL:https://nypa-collector.com/single-post-name/antique-fair-and-flea-market-8/
LOCATION:Washington County Fairgrounds\, 2701 State Rte 29\, Greenwich\, NY\, United States
END:VEVENT
BEGIN:VEVENT
DTSTART;TZID=America/New_York:20260502T100000
DTEND;TZID=America/New_York:20260502T160000
DTSTAMP:20260421T083411
CREATED:20260201T102555Z
LAST-MODIFIED:20260419T104038Z
UID:176449-1777716000-1777737600@nypa-collector.com
SUMMARY:Antiques & Artisans Show
DESCRIPTION:www.gcv.org
URL:https://nypa-collector.com/single-post-name/antiques-artisans-show/
LOCATION:Genesee Country Village & Museum\, 1410 Flint Hill Rd\, Le Roy\, NY\, United States
END:VEVENT
BEGIN:VEVENT
DTSTART;TZID=America/New_York:20260503T080000
DTEND;TZID=America/New_York:20260503T160000
DTSTAMP:20260421T083411
CREATED:20260208T102547Z
LAST-MODIFIED:20260419T104038Z
UID:176484-1777795200-1777824000@nypa-collector.com
SUMMARY:Sunday Antique Market
DESCRIPTION:www.aberfoyleantiquemarket.com
URL:https://nypa-collector.com/single-post-name/sunday-antique-market-2/
LOCATION:Aberfoyle Antique Market\, 57 Brock Rd S\, Puslinch\, ON N0B 2J0\, Canada
END:VEVENT
BEGIN:VEVENT
DTSTART;TZID=America/New_York:20260503T090000
DTEND;TZID=America/New_York:20260503T150000
DTSTAMP:20260421T083411
CREATED:20260208T102547Z
LAST-MODIFIED:20260419T104038Z
UID:176483-1777798800-1777820400@nypa-collector.com
SUMMARY:Bottle & Antique Show
DESCRIPTION:Admission: $5\n17 and under free
URL:https://nypa-collector.com/single-post-name/bottle-antique-show/
LOCATION:Roberts Wesleyan University\, 2299 Westside Dr\, Rochester\, NY\, United States
END:VEVENT
BEGIN:VEVENT
DTSTART;TZID=America/New_York:20260503T090000
DTEND;TZID=America/New_York:20260503T160000
DTSTAMP:20260421T083411
CREATED:20260329T102540Z
LAST-MODIFIED:20260419T104038Z
UID:176689-1777798800-1777824000@nypa-collector.com
SUMMARY:Antique Fair and Flea Market
DESCRIPTION:www.fairgroundshows.com
URL:https://nypa-collector.com/single-post-name/antique-fair-and-flea-market-9/
LOCATION:Washington County Fairgrounds\, 2701 State Rte 29\, Greenwich\, NY\, United States
END:VEVENT
BEGIN:VEVENT
DTSTART;TZID=America/New_York:20260509T000000
DTEND;TZID=America/New_York:20260510T235959
DTSTAMP:20260421T083411
CREATED:20260208T102547Z
LAST-MODIFIED:20260419T104038Z
UID:176485-1778284800-1778457599@nypa-collector.com
SUMMARY:Antique World Flea Market Indoor/Outdoor
DESCRIPTION:Open Year Round! 8 a.m. to 4 p.m.\nwww.AntiqueWorldMarket.com
URL:https://nypa-collector.com/single-post-name/antique-world-flea-market-indoor-outdoor-163/
LOCATION:Antique World & Flea Market\, 11111 Main St\, Clarence\, NY\, United States
END:VEVENT
BEGIN:VEVENT
DTSTART;TZID=America/New_York:20260510T080000
DTEND;TZID=America/New_York:20260510T160000
DTSTAMP:20260421T083412
CREATED:20260215T102536Z
LAST-MODIFIED:20260419T104038Z
UID:176510-1778400000-1778428800@nypa-collector.com
SUMMARY:Sunday Antique Market
DESCRIPTION:www.aberfoyleantiquemarket.com
URL:https://nypa-collector.com/single-post-name/sunday-antique-market-3/
LOCATION:Aberfoyle Antique Market\, 57 Brock Rd S\, Puslinch\, ON N0B 2J0\, Canada
END:VEVENT
BEGIN:VEVENT
DTSTART;TZID=America/New_York:20260516T000000
DTEND;TZID=America/New_York:20260517T235959
DTSTAMP:20260421T083412
CREATED:20260215T102536Z
LAST-MODIFIED:20260419T104038Z
UID:176511-1778889600-1779062399@nypa-collector.com
SUMMARY:Antique World Flea Market Indoor/Outdoor
DESCRIPTION:Open Year Round! 8 a.m. to 4 p.m.\nwww.AntiqueWorldMarket.com
URL:https://nypa-collector.com/single-post-name/antique-world-flea-market-indoor-outdoor-164/
LOCATION:Antique World & Flea Market\, 11111 Main St\, Clarence\, NY\, United States
END:VEVENT
BEGIN:VEVENT
DTSTART;TZID=America/New_York:20260517T080000
DTEND;TZID=America/New_York:20260517T160000
DTSTAMP:20260421T083412
CREATED:20260217T045547Z
LAST-MODIFIED:20260419T104038Z
UID:176519-1779004800-1779033600@nypa-collector.com
SUMMARY:Sunday Antique Market
DESCRIPTION:www.aberfoyleantiquemarket.com
URL:https://nypa-collector.com/single-post-name/sunday-antique-market-4/
LOCATION:Aberfoyle Antique Market\, 57 Brock Rd S\, Puslinch\, ON N0B 2J0\, Canada
END:VEVENT
BEGIN:VEVENT
DTSTART;TZID=America/New_York:20260523T000000
DTEND;TZID=America/New_York:20260524T235959
DTSTAMP:20260421T083412
CREATED:20260222T102537Z
LAST-MODIFIED:20260419T104038Z
UID:176533-1779494400-1779667199@nypa-collector.com
SUMMARY:Spring Finger Lakes Antique Show
DESCRIPTION:Show: Saturday-Sunday 8 a.m. to 4 p.m. \nFlea Market: Sunday 8 a.m. to 4 p.m. \nCar Show: Sunday\, 9 a.m. to 1 p.m. \nTheFingerLakesAntiqueShow.com
URL:https://nypa-collector.com/single-post-name/spring-finger-lakes-antique-show/
LOCATION:Steuben County Fairgrounds\, 15 E Washington St\, Bath\, NY\, United States
END:VEVENT
BEGIN:VEVENT
DTSTART;TZID=America/New_York:20260523T000000
DTEND;TZID=America/New_York:20260524T235959
DTSTAMP:20260421T083412
CREATED:20260222T102538Z
LAST-MODIFIED:20260419T104038Z
UID:176534-1779494400-1779667199@nypa-collector.com
SUMMARY:Antique World Flea Market Indoor/Outdoor
DESCRIPTION:Open Year Round! 8 a.m. to 4 p.m.\nwww.AntiqueWorldMarket.com
URL:https://nypa-collector.com/single-post-name/antique-world-flea-market-indoor-outdoor-165/
LOCATION:Antique World & Flea Market\, 11111 Main St\, Clarence\, NY\, United States
END:VEVENT
BEGIN:VEVENT
DTSTART;TZID=America/New_York:20260523T080000
DTEND;TZID=America/New_York:20260523T160000
DTSTAMP:20260421T083412
CREATED:20260329T102541Z
LAST-MODIFIED:20260419T104038Z
UID:176690-1779523200-1779552000@nypa-collector.com
SUMMARY:Stormville Antique Show & Flea Market
DESCRIPTION:www.stormvilleairportfleamarkets.com
URL:https://nypa-collector.com/single-post-name/stormville-antique-show-flea-market-14/
LOCATION:Stormville Airport Antique Show and Flea Market\, Stormville\, NY\, United States
END:VEVENT
BEGIN:VEVENT
DTSTART;TZID=America/New_York:20260524T080000
DTEND;TZID=America/New_York:20260524T160000
DTSTAMP:20260421T083412
CREATED:20260301T102532Z
LAST-MODIFIED:20260419T104038Z
UID:176553-1779609600-1779638400@nypa-collector.com
SUMMARY:Sunday Antique Market
DESCRIPTION:www.aberfoyleantiquemarket.com
URL:https://nypa-collector.com/single-post-name/sunday-antique-market-5/
LOCATION:Aberfoyle Antique Market\, 57 Brock Rd S\, Puslinch\, ON N0B 2J0\, Canada
END:VEVENT
BEGIN:VEVENT
DTSTART;TZID=America/New_York:20260524T080000
DTEND;TZID=America/New_York:20260524T160000
DTSTAMP:20260421T083412
CREATED:20260329T102541Z
LAST-MODIFIED:20260419T104038Z
UID:176691-1779609600-1779638400@nypa-collector.com
SUMMARY:Stormville Antique Show & Flea Market
DESCRIPTION:www.stormvilleairportfleamarkets.com
URL:https://nypa-collector.com/single-post-name/stormville-antique-show-flea-market-15/
LOCATION:Stormville Airport Antique Show and Flea Market\, Stormville\, NY\, United States
END:VEVENT
BEGIN:VEVENT
DTSTART;TZID=America/New_York:20260530T000000
DTEND;TZID=America/New_York:20260531T235959
DTSTAMP:20260421T083412
CREATED:20260301T102532Z
LAST-MODIFIED:20260419T104038Z
UID:176554-1780099200-1780271999@nypa-collector.com
SUMMARY:Antique World Flea Market Indoor/Outdoor
DESCRIPTION:Open Year Round! 8 a.m. to 4 p.m.\nwww.AntiqueWorldMarket.com
URL:https://nypa-collector.com/single-post-name/antique-world-flea-market-indoor-outdoor-166/
LOCATION:Antique World & Flea Market\, 11111 Main St\, Clarence\, NY\, United States
END:VEVENT
END:VCALENDAR